BEGIN:VCALENDAR
VERSION:2.0
PRODID:-//Family Room Coffee &amp; Bake Shop - ECPv6.5.0//NONSGML v1.0//EN
CALSCALE:GREGORIAN
METHOD:PUBLISH
X-ORIGINAL-URL:https://familyroomcoffee.com
X-WR-CALDESC:Events for Family Room Coffee &amp; Bake Shop
REFRESH-INTERVAL;VALUE=DURATION:PT1H
X-Robots-Tag:noindex
X-PUBLISHED-TTL:PT1H
BEGIN:VTIMEZONE
TZID:America/New_York
BEGIN:DAYLIGHT
TZOFFSETFROM:-0500
TZOFFSETTO:-0400
TZNAME:EDT
DTSTART:20240310T070000
END:DAYLIGHT
BEGIN:STANDARD
TZOFFSETFROM:-0400
TZOFFSETTO:-0500
TZNAME:EST
DTSTART:20241103T060000
END:STANDARD
END:VTIMEZONE
BEGIN:VEVENT
DTSTART;TZID=America/New_York:20240223T180000
DTEND;TZID=America/New_York:20240223T200000
DTSTAMP:20260421T203009
CREATED:20240123T125621Z
LAST-MODIFIED:20240123T125621Z
UID:10000014-1708711200-1708718400@familyroomcoffee.com
SUMMARY:Wizard Party
DESCRIPTION:Join us for a night of magic! Make themed crafts\, play games\, and get an event exclusive drink. Come dressed in your favorite wizard’s robes to celebrate in style! Prizes will be given for best individual and group costumes. The cost is $15 to participate in crafts\, and games\, and received a signature drink. Additional drinks for adults and be purchased on site.
URL:https://familyroomcoffee.com/event/wizard-party/
LOCATION:Family Room Coffee & Bake Shop\, 545 S. Otterbein Ave.\, Westerville\, OH\, 43081\, United States
CATEGORIES:Family Friendly
ATTACH;FMTTYPE=image/jpeg:https://familyroomcoffee.com/wp-content/uploads/2024/01/Wizard-party-scaled.jpg
END:VEVENT
END:VCALENDAR