BEGIN:VCALENDAR
VERSION:2.0
PRODID:-//Family Room Coffee &amp; Bake Shop - ECPv6.5.0//NONSGML v1.0//EN
CALSCALE:GREGORIAN
METHOD:PUBLISH
X-WR-CALNAME:Family Room Coffee &amp; Bake Shop
X-ORIGINAL-URL:https://familyroomcoffee.com
X-WR-CALDESC:Events for Family Room Coffee &amp; Bake Shop
REFRESH-INTERVAL;VALUE=DURATION:PT1H
X-Robots-Tag:noindex
X-PUBLISHED-TTL:PT1H
BEGIN:VTIMEZONE
TZID:America/New_York
BEGIN:DAYLIGHT
TZOFFSETFROM:-0500
TZOFFSETTO:-0400
TZNAME:EDT
DTSTART:20240310T070000
END:DAYLIGHT
BEGIN:STANDARD
TZOFFSETFROM:-0400
TZOFFSETTO:-0500
TZNAME:EST
DTSTART:20241103T060000
END:STANDARD
END:VTIMEZONE
BEGIN:VEVENT
DTSTART;TZID=America/New_York:20240318T183000
DTEND;TZID=America/New_York:20240318T203000
DTSTAMP:20260421T190748
CREATED:20240304T162709Z
LAST-MODIFIED:20240304T182919Z
UID:10000021-1710786600-1710793800@familyroomcoffee.com
SUMMARY:Vision & Sips
DESCRIPTION:Vision & Sips is a fun and interactive way for women to come together and gain massive clarity on what they want to create and experience this year.  \nYou will leave feeling excited and inspired\, with a visual roadmap (aka a vision board that actually works) in hand so you know the exact steps you need to take to turn their vision into your new reality. \nThis experience is a combination of learning\, creativity\, and strategic planning….plus conversation\, laughs\, and inspiration. 
URL:https://familyroomcoffee.com/event/vision-sips/
LOCATION:Family Room Coffee & Bake Shop\, 545 S. Otterbein Ave.\, Westerville\, OH\, 43081\, United States
ATTACH;FMTTYPE=image/png:https://familyroomcoffee.com/wp-content/uploads/2024/03/March-2024-Vision-Sips-1.png
END:VEVENT
END:VCALENDAR