BEGIN:VCALENDAR
VERSION:2.0
PRODID:-//Family Room Coffee &amp; Bake Shop - ECPv6.5.0//NONSGML v1.0//EN
CALSCALE:GREGORIAN
METHOD:PUBLISH
X-WR-CALNAME:Family Room Coffee &amp; Bake Shop
X-ORIGINAL-URL:https://familyroomcoffee.com
X-WR-CALDESC:Events for Family Room Coffee &amp; Bake Shop
REFRESH-INTERVAL;VALUE=DURATION:PT1H
X-Robots-Tag:noindex
X-PUBLISHED-TTL:PT1H
BEGIN:VTIMEZONE
TZID:America/New_York
BEGIN:DAYLIGHT
TZOFFSETFROM:-0500
TZOFFSETTO:-0400
TZNAME:EDT
DTSTART:20240310T070000
END:DAYLIGHT
BEGIN:STANDARD
TZOFFSETFROM:-0400
TZOFFSETTO:-0500
TZNAME:EST
DTSTART:20241103T060000
END:STANDARD
END:VTIMEZONE
BEGIN:VEVENT
DTSTART;TZID=America/New_York:20240407T133000
DTEND;TZID=America/New_York:20240407T143000
DTSTAMP:20260421T173400
CREATED:20240402T141023Z
LAST-MODIFIED:20240402T141023Z
UID:10000029-1712496600-1712500200@familyroomcoffee.com
SUMMARY:Story time & Author Visit
DESCRIPTION:We are so excited to have author S.R.D. Harris come to Family Room to lead a fun and interactive story time of her book “Teddy Only Wants Spaghetti”. Harris and her daughter are an authoring duo who have been featured on PBS and their books are available for sale worldwide. You won’t want to miss this great event!
URL:https://familyroomcoffee.com/event/story-time-author-visit/
LOCATION:Family Room Coffee & Bake Shop\, 545 S. Otterbein Ave.\, Westerville\, OH\, 43081\, United States
ATTACH;FMTTYPE=image/jpeg:https://familyroomcoffee.com/wp-content/uploads/2024/04/Story-Time.jpg
END:VEVENT
END:VCALENDAR