BEGIN:VCALENDAR
VERSION:2.0
PRODID:-//Family Room Coffee &amp; Bake Shop - ECPv6.5.0//NONSGML v1.0//EN
CALSCALE:GREGORIAN
METHOD:PUBLISH
X-ORIGINAL-URL:https://familyroomcoffee.com
X-WR-CALDESC:Events for Family Room Coffee &amp; Bake Shop
REFRESH-INTERVAL;VALUE=DURATION:PT1H
X-Robots-Tag:noindex
X-PUBLISHED-TTL:PT1H
BEGIN:VTIMEZONE
TZID:America/New_York
BEGIN:DAYLIGHT
TZOFFSETFROM:-0500
TZOFFSETTO:-0400
TZNAME:EDT
DTSTART:20240310T070000
END:DAYLIGHT
BEGIN:STANDARD
TZOFFSETFROM:-0400
TZOFFSETTO:-0500
TZNAME:EST
DTSTART:20241103T060000
END:STANDARD
END:VTIMEZONE
BEGIN:VEVENT
DTSTART;TZID=America/New_York:20240422T103000
DTEND;TZID=America/New_York:20240422T110000
DTSTAMP:20260421T190919
CREATED:20240409T115527Z
LAST-MODIFIED:20240409T115527Z
UID:10000036-1713781800-1713783600@familyroomcoffee.com
SUMMARY:Babbles & bubbles
DESCRIPTION:Books\, songs\, play and…bubbles! \nDrop-in storytime that focuses on early speech and language skills \n$10 per child\, ages 6 months – 3 years
URL:https://familyroomcoffee.com/event/babbles-bubbles-2/
LOCATION:Family Room Coffee & Bake Shop\, 545 S. Otterbein Ave.\, Westerville\, OH\, 43081\, United States
CATEGORIES:Family Friendly
ATTACH;FMTTYPE=image/jpeg:https://familyroomcoffee.com/wp-content/uploads/2024/04/BB-at-Family-Room-3.jpg
END:VEVENT
END:VCALENDAR