BEGIN:VCALENDAR
VERSION:2.0
PRODID:-//Family Room Coffee &amp; Bake Shop - ECPv6.5.0//NONSGML v1.0//EN
CALSCALE:GREGORIAN
METHOD:PUBLISH
X-ORIGINAL-URL:https://familyroomcoffee.com
X-WR-CALDESC:Events for Family Room Coffee &amp; Bake Shop
REFRESH-INTERVAL;VALUE=DURATION:PT1H
X-Robots-Tag:noindex
X-PUBLISHED-TTL:PT1H
BEGIN:VTIMEZONE
TZID:America/New_York
BEGIN:DAYLIGHT
TZOFFSETFROM:-0500
TZOFFSETTO:-0400
TZNAME:EDT
DTSTART:20240310T070000
END:DAYLIGHT
BEGIN:STANDARD
TZOFFSETFROM:-0400
TZOFFSETTO:-0500
TZNAME:EST
DTSTART:20241103T060000
END:STANDARD
END:VTIMEZONE
BEGIN:VEVENT
DTSTART;TZID=America/New_York:20240520T100000
DTEND;TZID=America/New_York:20240520T110000
DTSTAMP:20260421T160404
CREATED:20240520T152341Z
LAST-MODIFIED:20240520T152341Z
UID:10000049-1716199200-1716202800@familyroomcoffee.com
SUMMARY:Preschool Story Time
DESCRIPTION:Join us for our weekly preschool story hour. Meet other families\, enjoy delicious breakfast and drinks while your little ones listen to story hour with one of our awesome employees
URL:https://familyroomcoffee.com/event/preschool-story-time-12/
LOCATION:Family Room Coffee & Bake Shop\, 545 S. Otterbein Ave.\, Westerville\, OH\, 43081\, United States
CATEGORIES:Family Friendly
ATTACH;FMTTYPE=image/jpeg:https://familyroomcoffee.com/wp-content/uploads/2024/05/Cream-Green-Yellow-Flat-Graphic-Alphabet-Theme-Easel-Activity-Background.jpg
END:VEVENT
END:VCALENDAR