BEGIN:VCALENDAR
VERSION:2.0
PRODID:-//Family Room Coffee &amp; Bake Shop - ECPv6.5.0//NONSGML v1.0//EN
CALSCALE:GREGORIAN
METHOD:PUBLISH
X-WR-CALNAME:Family Room Coffee &amp; Bake Shop
X-ORIGINAL-URL:https://familyroomcoffee.com
X-WR-CALDESC:Events for Family Room Coffee &amp; Bake Shop
REFRESH-INTERVAL;VALUE=DURATION:PT1H
X-Robots-Tag:noindex
X-PUBLISHED-TTL:PT1H
BEGIN:VTIMEZONE
TZID:America/New_York
BEGIN:DAYLIGHT
TZOFFSETFROM:-0500
TZOFFSETTO:-0400
TZNAME:EDT
DTSTART:20240310T070000
END:DAYLIGHT
BEGIN:STANDARD
TZOFFSETFROM:-0400
TZOFFSETTO:-0500
TZNAME:EST
DTSTART:20241103T060000
END:STANDARD
END:VTIMEZONE
BEGIN:VEVENT
DTSTART;TZID=America/New_York:20241010T180000
DTEND;TZID=America/New_York:20241010T193000
DTSTAMP:20260421T084659
CREATED:20240911T133905Z
LAST-MODIFIED:20240911T133905Z
UID:10000604-1728583200-1728588600@familyroomcoffee.com
SUMMARY:Fall Pumpkin Macrame Workshop
DESCRIPTION:Create your own macrame wall hanging while sipping on one of Family Room’s delicious drinks. Beginner friendly!\nFall Pumpkin Wall Hanging Macrame Workshop at Family Room Coffee & Bake Shop Join us on Thursday October 10 at 6PM for a fun and creative evening of crafting. Learn how to create a fall macrame wall hanging. No experience is necessary – our instructor\, Amber\, will guide you through each step.All materials will be provided\, just bring yourself and your creativity! Don’t miss out on this chance to relax\, sip on some delicious coffee\, and make something special for your home. Invite a friend to create with you\, but sign up soon – only 10 spots are available.Please arrive a few minutes early to place your drink order. (Or order on the Family Room App!) We’ll work together\, step-by-step\, so it’s important that we start on time.$30 per person + eventbrite fee covers all supplies and instruction. Drinks are not included. No refunds. Exchanges for future events may be possible.
URL:https://familyroomcoffee.com/event/fall-pumpkin-macrame-workshop/
LOCATION:Family Room Coffee & Bake Shop\, 545 S. Otterbein Ave.\, Westerville\, OH\, 43081\, United States
CATEGORIES:Craft Night
ATTACH;FMTTYPE=image/jpeg:https://familyroomcoffee.com/wp-content/uploads/2024/09/Macrame-Pumpkin.jpg
END:VEVENT
END:VCALENDAR