BEGIN:VCALENDAR
VERSION:2.0
PRODID:-//Family Room Coffee &amp; Bake Shop - ECPv6.5.0//NONSGML v1.0//EN
CALSCALE:GREGORIAN
METHOD:PUBLISH
X-ORIGINAL-URL:https://familyroomcoffee.com
X-WR-CALDESC:Events for Family Room Coffee &amp; Bake Shop
REFRESH-INTERVAL;VALUE=DURATION:PT1H
X-Robots-Tag:noindex
X-PUBLISHED-TTL:PT1H
BEGIN:VTIMEZONE
TZID:America/New_York
BEGIN:DAYLIGHT
TZOFFSETFROM:-0500
TZOFFSETTO:-0400
TZNAME:EDT
DTSTART:20240310T070000
END:DAYLIGHT
BEGIN:STANDARD
TZOFFSETFROM:-0400
TZOFFSETTO:-0500
TZNAME:EST
DTSTART:20241103T060000
END:STANDARD
END:VTIMEZONE
BEGIN:VEVENT
DTSTART;TZID=America/New_York:20241214T180000
DTEND;TZID=America/New_York:20241214T203000
DTSTAMP:20260421T041800
CREATED:20241126T183614Z
LAST-MODIFIED:20241126T183614Z
UID:10000614-1734199200-1734208200@familyroomcoffee.com
SUMMARY:Painter's choice holiday paint party
DESCRIPTION:Join us for a delightful holiday paint party where you can choose between creating a charming holiday snowman or a festive wreath. At Cathy’s Party and Paint\, we believe creativity knows no bounds\, so our pre-sketched canvases make it easy and accessible for everyone\, regardless of their artistic skill level. Imagine the joy of mixing vibrant colors with friends and family\, all while sipping on your favorite beverage and sharing laughter. This is not just a painting session; it’s an opportunity to craft lasting memories filled with fun and festive spirit during this magical season.
URL:https://familyroomcoffee.com/event/painters-choice-holiday-paint-party/
LOCATION:Family Room Coffee & Bake Shop\, 545 S. Otterbein Ave.\, Westerville\, OH\, 43081\, United States
ATTACH;FMTTYPE=image/png:https://familyroomcoffee.com/wp-content/uploads/2024/11/Christmas-VW-Vibes-In-Person-10.png
END:VEVENT
END:VCALENDAR