BEGIN:VCALENDAR
VERSION:2.0
PRODID:-//Family Room Coffee &amp; Bake Shop - ECPv6.5.0//NONSGML v1.0//EN
CALSCALE:GREGORIAN
METHOD:PUBLISH
X-WR-CALNAME:Family Room Coffee &amp; Bake Shop
X-ORIGINAL-URL:https://familyroomcoffee.com
X-WR-CALDESC:Events for Family Room Coffee &amp; Bake Shop
REFRESH-INTERVAL;VALUE=DURATION:PT1H
X-Robots-Tag:noindex
X-PUBLISHED-TTL:PT1H
BEGIN:VTIMEZONE
TZID:America/New_York
BEGIN:DAYLIGHT
TZOFFSETFROM:-0500
TZOFFSETTO:-0400
TZNAME:EDT
DTSTART:20240310T070000
END:DAYLIGHT
BEGIN:STANDARD
TZOFFSETFROM:-0400
TZOFFSETTO:-0500
TZNAME:EST
DTSTART:20241103T060000
END:STANDARD
END:VTIMEZONE
BEGIN:VEVENT
DTSTART;TZID=America/New_York:20241221T130000
DTEND;TZID=America/New_York:20241221T150000
DTSTAMP:20260419T090913
CREATED:20241126T182600Z
LAST-MODIFIED:20241126T182600Z
UID:10000612-1734786000-1734793200@familyroomcoffee.com
SUMMARY:Christmas Cookie Decorating
DESCRIPTION:This class is for the beginner cookier or for the person who is just curious about what cookie decorating is all about! If you have limited experience with sugar cookies\, found yourself frustrated with royal icing\, or if you’re trying to have fun with family or friends\, this is the class for you! We’ll be decorating six Holiday-themed cookies you’ll be amazing at!\n\nWe provide everything you will need from cookies\, icing\, sprinkles\, and a box to take your awesome creations home in – we just need YOU! Each to-be-baker gets 6 cookies\, 4 icing colors\, sprinkles\, and all the tools necessary to knock this cookie class out of the park! Everything is prepped right before class – so no baking or icing mixing required. Just decorate!\n\nThis class is on Saturday\, December 21st and starts at 1:00pm – 3:00pm sharp so we can have enough time to decorate and answer along the way. Come by yourself\, bring your best friend\, or bring the family – we have seating for up to 25 people! It’s a blast whether you’re coming with a friend\, family member\, or solo!
URL:https://familyroomcoffee.com/event/christmas-cookie-decorating/
LOCATION:Family Room Coffee & Bake Shop\, 545 S. Otterbein Ave.\, Westerville\, OH\, 43081\, United States
ATTACH;FMTTYPE=image/jpeg:https://familyroomcoffee.com/wp-content/uploads/2024/11/Christmas-Cookie-Class-122124.jpg
END:VEVENT
END:VCALENDAR