BEGIN:VCALENDAR
VERSION:2.0
PRODID:-//Family Room Coffee &amp; Bake Shop - ECPv6.5.0//NONSGML v1.0//EN
CALSCALE:GREGORIAN
METHOD:PUBLISH
X-WR-CALNAME:Family Room Coffee &amp; Bake Shop
X-ORIGINAL-URL:https://familyroomcoffee.com
X-WR-CALDESC:Events for Family Room Coffee &amp; Bake Shop
REFRESH-INTERVAL;VALUE=DURATION:PT1H
X-Robots-Tag:noindex
X-PUBLISHED-TTL:PT1H
BEGIN:VTIMEZONE
TZID:America/New_York
BEGIN:DAYLIGHT
TZOFFSETFROM:-0500
TZOFFSETTO:-0400
TZNAME:EDT
DTSTART:20240310T070000
END:DAYLIGHT
BEGIN:STANDARD
TZOFFSETFROM:-0400
TZOFFSETTO:-0500
TZNAME:EST
DTSTART:20241103T060000
END:STANDARD
BEGIN:DAYLIGHT
TZOFFSETFROM:-0500
TZOFFSETTO:-0400
TZNAME:EDT
DTSTART:20250309T070000
END:DAYLIGHT
BEGIN:STANDARD
TZOFFSETFROM:-0400
TZOFFSETTO:-0500
TZNAME:EST
DTSTART:20251102T060000
END:STANDARD
END:VTIMEZONE
BEGIN:VEVENT
DTSTART;TZID=America/New_York:20241212T180000
DTEND;TZID=America/New_York:20241212T200000
DTSTAMP:20260423T025837
CREATED:20240911T155411Z
LAST-MODIFIED:20241021T161203Z
UID:10000607-1734026400-1734033600@familyroomcoffee.com
SUMMARY:Macrame Christmas Ornaments
DESCRIPTION:A beginner-friendly Macrame Workshop where you’ll learn to make 2 beautiful ornaments to decorate your home!\nMacrame Ornament Workshop at Family Room Coffee & Bake Shop Westerville OH Join us on Thursday December 12 at 6PM for a cozy and creative evening. No experience is necessary – our instructor\, Amber\, will guide you through each step. This project is recomended for ages 10 and up.All materials will be provided\, just bring yourself and your creativity! Don’t miss out on this chance to relax\, sip on some delicious coffee\, and make something special for your home or the perfect gift for the person who has everything.$15 per person + eventbrite fee covers all supplies and instruction to make 2 different ornaments. Additional supply kits can be added for $5 each. Drinks are not included. No refunds. Exchanges for future events may be possible.
URL:https://familyroomcoffee.com/event/893/
LOCATION:Family Room Coffee & Bake Shop\, 545 S. Otterbein Ave.\, Westerville\, OH\, 43081\, United States
CATEGORIES:Craft Night
ATTACH;FMTTYPE=image/jpeg:https://familyroomcoffee.com/wp-content/uploads/2024/09/Winter-Macrame-Ornaments.jpg
END:VEVENT
BEGIN:VEVENT
DTSTART;TZID=America/New_York:20250125T180000
DTEND;TZID=America/New_York:20250125T200000
DTSTAMP:20260423T025837
CREATED:20250108T182604Z
LAST-MODIFIED:20250108T182604Z
UID:10000659-1737828000-1737835200@familyroomcoffee.com
SUMMARY:January Paint Party
DESCRIPTION:Join us for our January paint party. Each participant gets instruction and all supplies to paint a beautiful 16×20 canvas.
URL:https://familyroomcoffee.com/event/january-paint-party/
LOCATION:OH
CATEGORIES:Craft Night
ATTACH;FMTTYPE=image/jpeg:https://familyroomcoffee.com/wp-content/uploads/2025/01/January-Paint.jpg
END:VEVENT
BEGIN:VEVENT
DTSTART;TZID=America/New_York:20250311T183000
DTEND;TZID=America/New_York:20250311T200000
DTSTAMP:20260423T025837
CREATED:20250204T171235Z
LAST-MODIFIED:20250204T171235Z
UID:10000664-1741717800-1741723200@familyroomcoffee.com
SUMMARY:Macrame Plant Hanger with Pot
DESCRIPTION:Join us for a creative and relaxing evening in our Macramé Plant Hanger Workshop! In this hands-on session\, you’ll learn the art of macramé and create your very own stylish plant hanger\, complete with a cute ceramic pot. \nWhat to Expect: \n\nStep-by-step instruction on basic macramé knots to help you craft a stunning and functional plant hanger.\nAll materials provided\, including high-quality macramé cord\, wood beads\, and a ceramic pot for your favorite plant.\nPersonal guidance from Amber\, aka ALPS\, to ensure you feel confident in your skills\, no matter your experience level.\nA fun and supportive environment\, where you can enjoy some creative time with friends or meet new people who share your love of crafting.\nOption to purchase a beverage from Family Room’s wide variety of coffee and non-coffee drinks.\n\nWhat You’ll Take Home: \n\nYour very own handmade macramé plant hanger\, perfect for adding a touch of boho charm to your home.\nCeramic pot that fits your plant hanger.\nNew skills in macramé that you can use for future projects\, from wall hangings to jewelry and more!\n\nSpaces are limited\, so be sure to reserve your spot today. Whether you’re a seasoned crafter or a beginner\, this workshop is the perfect way to unwind\, get creative\, and leave with a beautiful piece of functional art.
URL:https://familyroomcoffee.com/event/macrame-plant-hanger-with-pot/
LOCATION:Family Room Coffee & Bake Shop\, 545 S. Otterbein Ave.\, Westerville\, OH\, 43081\, United States
CATEGORIES:Craft Night
ATTACH;FMTTYPE=image/jpeg:https://familyroomcoffee.com/wp-content/uploads/2025/02/Macrame-plant-hanger-1-scaled.jpg
END:VEVENT
BEGIN:VEVENT
DTSTART;TZID=America/New_York:20250524T180000
DTEND;TZID=America/New_York:20250524T203000
DTSTAMP:20260423T025837
CREATED:20250403T132229Z
LAST-MODIFIED:20250403T132229Z
UID:10000692-1748109600-1748118600@familyroomcoffee.com
SUMMARY:May Painting Class
DESCRIPTION:This beautiful Field of Sunflowers is sure to make you happy. Imagine how pretty it will be displayed in your home. While you paint\, enjoy sweets\, coffee\, tea\, and other beverages at Family Room Coffee & Bakery. Let’s PAINT AND Have Fun!
URL:https://familyroomcoffee.com/event/may-painting-class/
LOCATION:Family Room Coffee & Bake Shop\, 545 S. Otterbein Ave.\, Westerville\, OH\, 43081\, United States
CATEGORIES:Craft Night
END:VEVENT
BEGIN:VEVENT
DTSTART;TZID=America/New_York:20250724T180000
DTEND;TZID=America/New_York:20250724T203000
DTSTAMP:20260423T025837
CREATED:20250630T165252Z
LAST-MODIFIED:20250630T165252Z
UID:10000702-1753380000-1753389000@familyroomcoffee.com
SUMMARY:Butterfly Bliss Painting party
DESCRIPTION:Join Cathy’s Party & Paint at Family Room Coffee & Bakeshop for a fun Butterfly Bliss Paint Party! Paint the butterfly as is or customize your own\, and of course\, add your glitter accents.
URL:https://familyroomcoffee.com/event/butterfly-bliss-painting-party/
LOCATION:Family Room Coffee & Bake Shop\, 545 S. Otterbein Ave.\, Westerville\, OH\, 43081\, United States
CATEGORIES:Craft Night
END:VEVENT
END:VCALENDAR