BEGIN:VCALENDAR
VERSION:2.0
PRODID:-//Family Room Coffee &amp; Bake Shop - ECPv6.5.0//NONSGML v1.0//EN
CALSCALE:GREGORIAN
METHOD:PUBLISH
X-WR-CALNAME:Family Room Coffee &amp; Bake Shop
X-ORIGINAL-URL:https://familyroomcoffee.com
X-WR-CALDESC:Events for Family Room Coffee &amp; Bake Shop
REFRESH-INTERVAL;VALUE=DURATION:PT1H
X-Robots-Tag:noindex
X-PUBLISHED-TTL:PT1H
BEGIN:VTIMEZONE
TZID:America/New_York
BEGIN:DAYLIGHT
TZOFFSETFROM:-0500
TZOFFSETTO:-0400
TZNAME:EDT
DTSTART:20240310T070000
END:DAYLIGHT
BEGIN:STANDARD
TZOFFSETFROM:-0400
TZOFFSETTO:-0500
TZNAME:EST
DTSTART:20241103T060000
END:STANDARD
BEGIN:DAYLIGHT
TZOFFSETFROM:-0500
TZOFFSETTO:-0400
TZNAME:EDT
DTSTART:20250309T070000
END:DAYLIGHT
BEGIN:STANDARD
TZOFFSETFROM:-0400
TZOFFSETTO:-0500
TZNAME:EST
DTSTART:20251102T060000
END:STANDARD
TZID:America/New_York
BEGIN:DAYLIGHT
TZOFFSETFROM:-0500
TZOFFSETTO:-0400
TZNAME:EDT
DTSTART:20240310T070000
END:DAYLIGHT
BEGIN:STANDARD
TZOFFSETFROM:-0400
TZOFFSETTO:-0500
TZNAME:EST
DTSTART:20241103T060000
END:STANDARD
BEGIN:DAYLIGHT
TZOFFSETFROM:-0500
TZOFFSETTO:-0400
TZNAME:EDT
DTSTART:20250309T070000
END:DAYLIGHT
BEGIN:STANDARD
TZOFFSETFROM:-0400
TZOFFSETTO:-0500
TZNAME:EST
DTSTART:20251102T060000
END:STANDARD
END:VTIMEZONE
BEGIN:VEVENT
DTSTART;TZID=America/New_York:20241004T180000
DTEND;TZID=America/New_York:20241004T200000
DTSTAMP:20260421T222502
CREATED:20240709T112842Z
LAST-MODIFIED:20240709T113322Z
UID:10000589-1728064800-1728072000@familyroomcoffee.com
SUMMARY:Bingo!
DESCRIPTION:Join us for Bingo on the 1st and 3rd Fridays of the month. All ages can participate and there is no cost to play. Win fun treats and prizes.
URL:https://familyroomcoffee.com/event/bingo/2024-10-04/
LOCATION:Family Room Coffee & Bake Shop\, 545 S. Otterbein Ave.\, Westerville\, OH\, 43081\, United States
CATEGORIES:Family Friendly
ATTACH;FMTTYPE=image/jpeg:https://familyroomcoffee.com/wp-content/uploads/2024/01/Bingo-scaled.jpg
END:VEVENT
BEGIN:VEVENT
DTSTART;TZID=America/New_York:20241018T180000
DTEND;TZID=America/New_York:20241018T200000
DTSTAMP:20260421T222502
CREATED:20240709T112842Z
LAST-MODIFIED:20240709T113322Z
UID:10000590-1729274400-1729281600@familyroomcoffee.com
SUMMARY:Bingo!
DESCRIPTION:Join us for Bingo on the 1st and 3rd Fridays of the month. All ages can participate and there is no cost to play. Win fun treats and prizes.
URL:https://familyroomcoffee.com/event/bingo/2024-10-18/
LOCATION:Family Room Coffee & Bake Shop\, 545 S. Otterbein Ave.\, Westerville\, OH\, 43081\, United States
CATEGORIES:Family Friendly
ATTACH;FMTTYPE=image/jpeg:https://familyroomcoffee.com/wp-content/uploads/2024/01/Bingo-scaled.jpg
END:VEVENT
BEGIN:VEVENT
DTSTART;TZID=America/New_York:20241101T180000
DTEND;TZID=America/New_York:20241101T200000
DTSTAMP:20260421T222502
CREATED:20240709T112842Z
LAST-MODIFIED:20240709T113322Z
UID:10000591-1730484000-1730491200@familyroomcoffee.com
SUMMARY:Bingo!
DESCRIPTION:Join us for Bingo on the 1st and 3rd Fridays of the month. All ages can participate and there is no cost to play. Win fun treats and prizes.
URL:https://familyroomcoffee.com/event/bingo/2024-11-01/
LOCATION:Family Room Coffee & Bake Shop\, 545 S. Otterbein Ave.\, Westerville\, OH\, 43081\, United States
CATEGORIES:Family Friendly
ATTACH;FMTTYPE=image/jpeg:https://familyroomcoffee.com/wp-content/uploads/2024/01/Bingo-scaled.jpg
END:VEVENT
BEGIN:VEVENT
DTSTART;TZID=America/New_York:20241206T100000
DTEND;TZID=America/New_York:20241206T103000
DTSTAMP:20260421T222502
CREATED:20241202T174135Z
LAST-MODIFIED:20241202T174135Z
UID:10000615-1733479200-1733481000@familyroomcoffee.com
SUMMARY:Preschool story time with the Westerville Public Library
DESCRIPTION:Join us for a fun and interactive story time with the Westerville Public Library children’s staff.
URL:https://familyroomcoffee.com/event/preschool-story-time-with-the-westerville-public-library/2024-12-06/
LOCATION:Family Room Coffee & Bake Shop\, 545 S. Otterbein Ave.\, Westerville\, OH\, 43081\, United States
CATEGORIES:Family Friendly
ATTACH;FMTTYPE=image/jpeg:https://familyroomcoffee.com/wp-content/uploads/2024/12/Winter-Daily-Class-Agenda-Presentation-in-Blue-Green-and-White-Flat-Graphic-Style.jpg
END:VEVENT
BEGIN:VEVENT
DTSTART;TZID=America/New_York:20241206T180000
DTEND;TZID=America/New_York:20241206T200000
DTSTAMP:20260421T222502
CREATED:20241202T174510Z
LAST-MODIFIED:20241209T160707Z
UID:10000592-1733508000-1733515200@familyroomcoffee.com
SUMMARY:Bingo!
DESCRIPTION:Join us for Bingo on the 1st and 3rd Fridays of the month. All ages can participate and there is no cost to play. Win fun treats and prizes.
URL:https://familyroomcoffee.com/event/bingo-2/2024-12-06/
LOCATION:Family Room Coffee & Bake Shop\, 545 S. Otterbein Ave.\, Westerville\, OH\, 43081\, United States
CATEGORIES:Family Friendly
ATTACH;FMTTYPE=image/jpeg:https://familyroomcoffee.com/wp-content/uploads/2024/01/Bingo-scaled.jpg
END:VEVENT
BEGIN:VEVENT
DTSTART;TZID=America/New_York:20241220T180000
DTEND;TZID=America/New_York:20241220T200000
DTSTAMP:20260421T222502
CREATED:20241202T174510Z
LAST-MODIFIED:20241209T160707Z
UID:10000647-1734717600-1734724800@familyroomcoffee.com
SUMMARY:Bingo!
DESCRIPTION:Join us for Bingo on the 1st and 3rd Fridays of the month. All ages can participate and there is no cost to play. Win fun treats and prizes.
URL:https://familyroomcoffee.com/event/bingo-2/2024-12-20/
LOCATION:Family Room Coffee & Bake Shop\, 545 S. Otterbein Ave.\, Westerville\, OH\, 43081\, United States
CATEGORIES:Family Friendly
ATTACH;FMTTYPE=image/jpeg:https://familyroomcoffee.com/wp-content/uploads/2024/01/Bingo-scaled.jpg
END:VEVENT
BEGIN:VEVENT
DTSTART;TZID=America/New_York:20250103T180000
DTEND;TZID=America/New_York:20250103T200000
DTSTAMP:20260421T222502
CREATED:20241202T174510Z
LAST-MODIFIED:20241209T160707Z
UID:10000648-1735927200-1735934400@familyroomcoffee.com
SUMMARY:Bingo!
DESCRIPTION:Join us for Bingo on the 1st and 3rd Fridays of the month. All ages can participate and there is no cost to play. Win fun treats and prizes.
URL:https://familyroomcoffee.com/event/bingo-2/2025-01-03/
LOCATION:Family Room Coffee & Bake Shop\, 545 S. Otterbein Ave.\, Westerville\, OH\, 43081\, United States
CATEGORIES:Family Friendly
ATTACH;FMTTYPE=image/jpeg:https://familyroomcoffee.com/wp-content/uploads/2024/01/Bingo-scaled.jpg
END:VEVENT
BEGIN:VEVENT
DTSTART;TZID=America/New_York:20250106T110000
DTEND;TZID=America/New_York:20250106T113000
DTSTAMP:20260421T222502
CREATED:20241202T174135Z
LAST-MODIFIED:20241202T174135Z
UID:10000616-1736161200-1736163000@familyroomcoffee.com
SUMMARY:Preschool story time with the Westerville Public Library
DESCRIPTION:Join us for a fun and interactive story time with the Westerville Public Library children’s staff.
URL:https://familyroomcoffee.com/event/preschool-story-time-with-the-westerville-public-library/2025-01-06/
LOCATION:Family Room Coffee & Bake Shop\, 545 S. Otterbein Ave.\, Westerville\, OH\, 43081\, United States
CATEGORIES:Family Friendly
ATTACH;FMTTYPE=image/jpeg:https://familyroomcoffee.com/wp-content/uploads/2024/12/Winter-Daily-Class-Agenda-Presentation-in-Blue-Green-and-White-Flat-Graphic-Style.jpg
END:VEVENT
BEGIN:VEVENT
DTSTART;TZID=America/New_York:20250117T180000
DTEND;TZID=America/New_York:20250117T200000
DTSTAMP:20260421T222502
CREATED:20241202T174510Z
LAST-MODIFIED:20241209T160707Z
UID:10000649-1737136800-1737144000@familyroomcoffee.com
SUMMARY:Bingo!
DESCRIPTION:Join us for Bingo on the 1st and 3rd Fridays of the month. All ages can participate and there is no cost to play. Win fun treats and prizes.
URL:https://familyroomcoffee.com/event/bingo-2/2025-01-17/
LOCATION:Family Room Coffee & Bake Shop\, 545 S. Otterbein Ave.\, Westerville\, OH\, 43081\, United States
CATEGORIES:Family Friendly
ATTACH;FMTTYPE=image/jpeg:https://familyroomcoffee.com/wp-content/uploads/2024/01/Bingo-scaled.jpg
END:VEVENT
BEGIN:VEVENT
DTSTART;TZID=America/New_York:20250207T180000
DTEND;TZID=America/New_York:20250207T200000
DTSTAMP:20260421T222502
CREATED:20241202T174617Z
LAST-MODIFIED:20241202T174617Z
UID:10000598-1738951200-1738958400@familyroomcoffee.com
SUMMARY:Bingo!
DESCRIPTION:Join us for Bingo on the 1st and 3rd Fridays of the month. All ages can participate and there is no cost to play. Win fun treats and prizes.
URL:https://familyroomcoffee.com/event/bingo-3/
LOCATION:Family Room Coffee & Bake Shop\, 545 S. Otterbein Ave.\, Westerville\, OH\, 43081\, United States
CATEGORIES:Family Friendly
ATTACH;FMTTYPE=image/jpeg:https://familyroomcoffee.com/wp-content/uploads/2024/01/Bingo-scaled.jpg
END:VEVENT
BEGIN:VEVENT
DTSTART;TZID=America/New_York:20250207T180000
DTEND;TZID=America/New_York:20250207T200000
DTSTAMP:20260421T222502
CREATED:20241209T160815Z
LAST-MODIFIED:20241209T160826Z
UID:10000650-1738951200-1738958400@familyroomcoffee.com
SUMMARY:Bingo!
DESCRIPTION:Join us for Bingo on the 1st and 3rd Fridays of the month. All ages can participate and there is no cost to play. Win fun treats and prizes.
URL:https://familyroomcoffee.com/event/bingo-4/2025-02-07/
LOCATION:Family Room Coffee & Bake Shop\, 545 S. Otterbein Ave.\, Westerville\, OH\, 43081\, United States
CATEGORIES:Family Friendly
ATTACH;FMTTYPE=image/jpeg:https://familyroomcoffee.com/wp-content/uploads/2024/01/Bingo-scaled.jpg
END:VEVENT
BEGIN:VEVENT
DTSTART;TZID=America/New_York:20250211T183000
DTEND;TZID=America/New_York:20250211T190000
DTSTAMP:20260421T222502
CREATED:20241202T174135Z
LAST-MODIFIED:20241202T174135Z
UID:10000617-1739298600-1739300400@familyroomcoffee.com
SUMMARY:Preschool story time with the Westerville Public Library
DESCRIPTION:Join us for a fun and interactive story time with the Westerville Public Library children’s staff.
URL:https://familyroomcoffee.com/event/preschool-story-time-with-the-westerville-public-library/2025-02-11/
LOCATION:Family Room Coffee & Bake Shop\, 545 S. Otterbein Ave.\, Westerville\, OH\, 43081\, United States
CATEGORIES:Family Friendly
ATTACH;FMTTYPE=image/jpeg:https://familyroomcoffee.com/wp-content/uploads/2024/12/Winter-Daily-Class-Agenda-Presentation-in-Blue-Green-and-White-Flat-Graphic-Style.jpg
END:VEVENT
BEGIN:VEVENT
DTSTART;TZID=America/New_York:20250221T180000
DTEND;TZID=America/New_York:20250221T200000
DTSTAMP:20260421T222502
CREATED:20241209T160815Z
LAST-MODIFIED:20241209T160826Z
UID:10000651-1740160800-1740168000@familyroomcoffee.com
SUMMARY:Bingo!
DESCRIPTION:Join us for Bingo on the 1st and 3rd Fridays of the month. All ages can participate and there is no cost to play. Win fun treats and prizes.
URL:https://familyroomcoffee.com/event/bingo-4/2025-02-21/
LOCATION:Family Room Coffee & Bake Shop\, 545 S. Otterbein Ave.\, Westerville\, OH\, 43081\, United States
CATEGORIES:Family Friendly
ATTACH;FMTTYPE=image/jpeg:https://familyroomcoffee.com/wp-content/uploads/2024/01/Bingo-scaled.jpg
END:VEVENT
BEGIN:VEVENT
DTSTART;TZID=America/New_York:20250307T180000
DTEND;TZID=America/New_York:20250307T200000
DTSTAMP:20260421T222502
CREATED:20241209T160815Z
LAST-MODIFIED:20241209T160826Z
UID:10000652-1741370400-1741377600@familyroomcoffee.com
SUMMARY:Bingo!
DESCRIPTION:Join us for Bingo on the 1st and 3rd Fridays of the month. All ages can participate and there is no cost to play. Win fun treats and prizes.
URL:https://familyroomcoffee.com/event/bingo-4/2025-03-07/
LOCATION:Family Room Coffee & Bake Shop\, 545 S. Otterbein Ave.\, Westerville\, OH\, 43081\, United States
CATEGORIES:Family Friendly
ATTACH;FMTTYPE=image/jpeg:https://familyroomcoffee.com/wp-content/uploads/2024/01/Bingo-scaled.jpg
END:VEVENT
BEGIN:VEVENT
DTSTART;TZID=America/New_York:20250321T180000
DTEND;TZID=America/New_York:20250321T200000
DTSTAMP:20260421T222502
CREATED:20241209T160815Z
LAST-MODIFIED:20241209T160826Z
UID:10000653-1742580000-1742587200@familyroomcoffee.com
SUMMARY:Bingo!
DESCRIPTION:Join us for Bingo on the 1st and 3rd Fridays of the month. All ages can participate and there is no cost to play. Win fun treats and prizes.
URL:https://familyroomcoffee.com/event/bingo-4/2025-03-21/
LOCATION:Family Room Coffee & Bake Shop\, 545 S. Otterbein Ave.\, Westerville\, OH\, 43081\, United States
CATEGORIES:Family Friendly
ATTACH;FMTTYPE=image/jpeg:https://familyroomcoffee.com/wp-content/uploads/2024/01/Bingo-scaled.jpg
END:VEVENT
BEGIN:VEVENT
DTSTART;TZID=America/New_York:20250404T180000
DTEND;TZID=America/New_York:20250404T200000
DTSTAMP:20260421T222502
CREATED:20241209T160815Z
LAST-MODIFIED:20241209T160826Z
UID:10000654-1743789600-1743796800@familyroomcoffee.com
SUMMARY:Bingo!
DESCRIPTION:Join us for Bingo on the 1st and 3rd Fridays of the month. All ages can participate and there is no cost to play. Win fun treats and prizes.
URL:https://familyroomcoffee.com/event/bingo-4/2025-04-04/
LOCATION:Family Room Coffee & Bake Shop\, 545 S. Otterbein Ave.\, Westerville\, OH\, 43081\, United States
CATEGORIES:Family Friendly
ATTACH;FMTTYPE=image/jpeg:https://familyroomcoffee.com/wp-content/uploads/2024/01/Bingo-scaled.jpg
END:VEVENT
BEGIN:VEVENT
DTSTART;TZID=America/New_York:20250418T180000
DTEND;TZID=America/New_York:20250418T200000
DTSTAMP:20260421T222502
CREATED:20241209T160815Z
LAST-MODIFIED:20241209T160826Z
UID:10000655-1744999200-1745006400@familyroomcoffee.com
SUMMARY:Bingo!
DESCRIPTION:Join us for Bingo on the 1st and 3rd Fridays of the month. All ages can participate and there is no cost to play. Win fun treats and prizes.
URL:https://familyroomcoffee.com/event/bingo-4/2025-04-18/
LOCATION:Family Room Coffee & Bake Shop\, 545 S. Otterbein Ave.\, Westerville\, OH\, 43081\, United States
CATEGORIES:Family Friendly
ATTACH;FMTTYPE=image/jpeg:https://familyroomcoffee.com/wp-content/uploads/2024/01/Bingo-scaled.jpg
END:VEVENT
BEGIN:VEVENT
DTSTART;TZID=America/New_York:20250502T180000
DTEND;TZID=America/New_York:20250502T200000
DTSTAMP:20260421T222502
CREATED:20241209T160815Z
LAST-MODIFIED:20241209T160826Z
UID:10000656-1746208800-1746216000@familyroomcoffee.com
SUMMARY:Bingo!
DESCRIPTION:Join us for Bingo on the 1st and 3rd Fridays of the month. All ages can participate and there is no cost to play. Win fun treats and prizes.
URL:https://familyroomcoffee.com/event/bingo-4/2025-05-02/
LOCATION:Family Room Coffee & Bake Shop\, 545 S. Otterbein Ave.\, Westerville\, OH\, 43081\, United States
CATEGORIES:Family Friendly
ATTACH;FMTTYPE=image/jpeg:https://familyroomcoffee.com/wp-content/uploads/2024/01/Bingo-scaled.jpg
END:VEVENT
BEGIN:VEVENT
DTSTART;TZID=America/New_York:20250618T103000
DTEND;TZID=America/New_York:20250618T110000
DTSTAMP:20260421T222502
CREATED:20250603T152224Z
LAST-MODIFIED:20250603T152224Z
UID:10000698-1750242600-1750244400@familyroomcoffee.com
SUMMARY:Summer Library Story Times
DESCRIPTION:Our amazing library staff will be having a fun and engaging story time for our little friends! Bring the kiddos and enjoy a coffee\, which they dance and move at story time!
URL:https://familyroomcoffee.com/event/summer-library-story-times/2025-06-18/
LOCATION:Family Room Coffee & Bake Shop\, 545 S. Otterbein Ave.\, Westerville\, OH\, 43081\, United States
CATEGORIES:Family Friendly
END:VEVENT
BEGIN:VEVENT
DTSTART;TZID=America/New_York:20250716T103000
DTEND;TZID=America/New_York:20250716T110000
DTSTAMP:20260421T222502
CREATED:20250603T152224Z
LAST-MODIFIED:20250603T152224Z
UID:10000699-1752661800-1752663600@familyroomcoffee.com
SUMMARY:Summer Library Story Times
DESCRIPTION:Our amazing library staff will be having a fun and engaging story time for our little friends! Bring the kiddos and enjoy a coffee\, which they dance and move at story time!
URL:https://familyroomcoffee.com/event/summer-library-story-times/2025-07-16/
LOCATION:Family Room Coffee & Bake Shop\, 545 S. Otterbein Ave.\, Westerville\, OH\, 43081\, United States
CATEGORIES:Family Friendly
END:VEVENT
BEGIN:VEVENT
DTSTART;TZID=America/New_York:20250718T180000
DTEND;TZID=America/New_York:20250718T200000
DTSTAMP:20260421T222502
CREATED:20250630T165543Z
LAST-MODIFIED:20250703T113618Z
UID:10000657-1752861600-1752868800@familyroomcoffee.com
SUMMARY:Bingo!
DESCRIPTION:Join us for Bingo on the 1st and 3rd Fridays of the month. All ages can participate and there is no cost to play. Win fun treats and prizes.
URL:https://familyroomcoffee.com/event/bingo-4-2/2025-07-18/
LOCATION:Family Room Coffee & Bake Shop\, 545 S. Otterbein Ave.\, Westerville\, OH\, 43081\, United States
CATEGORIES:Family Friendly
ATTACH;FMTTYPE=image/jpeg:https://familyroomcoffee.com/wp-content/uploads/2024/01/Bingo-scaled.jpg
END:VEVENT
BEGIN:VEVENT
DTSTART;TZID=America/New_York:20250801T180000
DTEND;TZID=America/New_York:20250801T200000
DTSTAMP:20260421T222502
CREATED:20250630T165543Z
LAST-MODIFIED:20250703T113618Z
UID:10000734-1754071200-1754078400@familyroomcoffee.com
SUMMARY:Bingo!
DESCRIPTION:Join us for Bingo on the 1st and 3rd Fridays of the month. All ages can participate and there is no cost to play. Win fun treats and prizes.
URL:https://familyroomcoffee.com/event/bingo-4-2/2025-08-01/
LOCATION:Family Room Coffee & Bake Shop\, 545 S. Otterbein Ave.\, Westerville\, OH\, 43081\, United States
CATEGORIES:Family Friendly
ATTACH;FMTTYPE=image/jpeg:https://familyroomcoffee.com/wp-content/uploads/2024/01/Bingo-scaled.jpg
END:VEVENT
BEGIN:VEVENT
DTSTART;TZID=America/New_York:20250815T180000
DTEND;TZID=America/New_York:20250815T200000
DTSTAMP:20260421T222502
CREATED:20250630T165543Z
LAST-MODIFIED:20250703T113618Z
UID:10000735-1755280800-1755288000@familyroomcoffee.com
SUMMARY:Bingo!
DESCRIPTION:Join us for Bingo on the 1st and 3rd Fridays of the month. All ages can participate and there is no cost to play. Win fun treats and prizes.
URL:https://familyroomcoffee.com/event/bingo-4-2/2025-08-15/
LOCATION:Family Room Coffee & Bake Shop\, 545 S. Otterbein Ave.\, Westerville\, OH\, 43081\, United States
CATEGORIES:Family Friendly
ATTACH;FMTTYPE=image/jpeg:https://familyroomcoffee.com/wp-content/uploads/2024/01/Bingo-scaled.jpg
END:VEVENT
BEGIN:VEVENT
DTSTART;TZID=America/New_York:20250820T103000
DTEND;TZID=America/New_York:20250820T110000
DTSTAMP:20260421T222502
CREATED:20250603T152224Z
LAST-MODIFIED:20250603T152224Z
UID:10000700-1755685800-1755687600@familyroomcoffee.com
SUMMARY:Summer Library Story Times
DESCRIPTION:Our amazing library staff will be having a fun and engaging story time for our little friends! Bring the kiddos and enjoy a coffee\, which they dance and move at story time!
URL:https://familyroomcoffee.com/event/summer-library-story-times/2025-08-20/
LOCATION:Family Room Coffee & Bake Shop\, 545 S. Otterbein Ave.\, Westerville\, OH\, 43081\, United States
CATEGORIES:Family Friendly
END:VEVENT
BEGIN:VEVENT
DTSTART;TZID=America/New_York:20250905T180000
DTEND;TZID=America/New_York:20250905T200000
DTSTAMP:20260421T222502
CREATED:20250630T165720Z
LAST-MODIFIED:20250630T165720Z
UID:10000704-1757095200-1757102400@familyroomcoffee.com
SUMMARY:Bingo!
DESCRIPTION:Join us for Bingo on the 1st and 3rd Fridays of the month. All ages can participate and there is no cost to play. Win fun treats and prizes.
URL:https://familyroomcoffee.com/event/bingo-5/2025-09-05/
LOCATION:Family Room Coffee & Bake Shop\, 545 S. Otterbein Ave.\, Westerville\, OH\, 43081\, United States
CATEGORIES:Family Friendly
ATTACH;FMTTYPE=image/jpeg:https://familyroomcoffee.com/wp-content/uploads/2024/01/Bingo-scaled.jpg
END:VEVENT
BEGIN:VEVENT
DTSTART;TZID=America/New_York:20250919T180000
DTEND;TZID=America/New_York:20250919T200000
DTSTAMP:20260421T222502
CREATED:20250630T165720Z
LAST-MODIFIED:20250630T165720Z
UID:10000705-1758304800-1758312000@familyroomcoffee.com
SUMMARY:Bingo!
DESCRIPTION:Join us for Bingo on the 1st and 3rd Fridays of the month. All ages can participate and there is no cost to play. Win fun treats and prizes.
URL:https://familyroomcoffee.com/event/bingo-5/2025-09-19/
LOCATION:Family Room Coffee & Bake Shop\, 545 S. Otterbein Ave.\, Westerville\, OH\, 43081\, United States
CATEGORIES:Family Friendly
ATTACH;FMTTYPE=image/jpeg:https://familyroomcoffee.com/wp-content/uploads/2024/01/Bingo-scaled.jpg
END:VEVENT
BEGIN:VEVENT
DTSTART;TZID=America/New_York:20251003T180000
DTEND;TZID=America/New_York:20251003T200000
DTSTAMP:20260421T222502
CREATED:20250630T165720Z
LAST-MODIFIED:20250630T165720Z
UID:10000706-1759514400-1759521600@familyroomcoffee.com
SUMMARY:Bingo!
DESCRIPTION:Join us for Bingo on the 1st and 3rd Fridays of the month. All ages can participate and there is no cost to play. Win fun treats and prizes.
URL:https://familyroomcoffee.com/event/bingo-5/2025-10-03/
LOCATION:Family Room Coffee & Bake Shop\, 545 S. Otterbein Ave.\, Westerville\, OH\, 43081\, United States
CATEGORIES:Family Friendly
ATTACH;FMTTYPE=image/jpeg:https://familyroomcoffee.com/wp-content/uploads/2024/01/Bingo-scaled.jpg
END:VEVENT
BEGIN:VEVENT
DTSTART;TZID=America/New_York:20251017T180000
DTEND;TZID=America/New_York:20251017T200000
DTSTAMP:20260421T222502
CREATED:20250630T165720Z
LAST-MODIFIED:20250630T165720Z
UID:10000707-1760724000-1760731200@familyroomcoffee.com
SUMMARY:Bingo!
DESCRIPTION:Join us for Bingo on the 1st and 3rd Fridays of the month. All ages can participate and there is no cost to play. Win fun treats and prizes.
URL:https://familyroomcoffee.com/event/bingo-5/2025-10-17/
LOCATION:Family Room Coffee & Bake Shop\, 545 S. Otterbein Ave.\, Westerville\, OH\, 43081\, United States
CATEGORIES:Family Friendly
ATTACH;FMTTYPE=image/jpeg:https://familyroomcoffee.com/wp-content/uploads/2024/01/Bingo-scaled.jpg
END:VEVENT
BEGIN:VEVENT
DTSTART;TZID=America/New_York:20251107T180000
DTEND;TZID=America/New_York:20251107T200000
DTSTAMP:20260421T222502
CREATED:20250630T165819Z
LAST-MODIFIED:20250630T165819Z
UID:10000712-1762538400-1762545600@familyroomcoffee.com
SUMMARY:Bingo!
DESCRIPTION:Join us for Bingo on the 1st and 3rd Fridays of the month. All ages can participate and there is no cost to play. Win fun treats and prizes.
URL:https://familyroomcoffee.com/event/bingo-6/2025-11-07/
LOCATION:Family Room Coffee & Bake Shop\, 545 S. Otterbein Ave.\, Westerville\, OH\, 43081\, United States
CATEGORIES:Family Friendly
ATTACH;FMTTYPE=image/jpeg:https://familyroomcoffee.com/wp-content/uploads/2024/01/Bingo-scaled.jpg
END:VEVENT
BEGIN:VEVENT
DTSTART;TZID=America/New_York:20251121T180000
DTEND;TZID=America/New_York:20251121T200000
DTSTAMP:20260421T222502
CREATED:20250630T165819Z
LAST-MODIFIED:20250630T165819Z
UID:10000713-1763748000-1763755200@familyroomcoffee.com
SUMMARY:Bingo!
DESCRIPTION:Join us for Bingo on the 1st and 3rd Fridays of the month. All ages can participate and there is no cost to play. Win fun treats and prizes.
URL:https://familyroomcoffee.com/event/bingo-6/2025-11-21/
LOCATION:Family Room Coffee & Bake Shop\, 545 S. Otterbein Ave.\, Westerville\, OH\, 43081\, United States
CATEGORIES:Family Friendly
ATTACH;FMTTYPE=image/jpeg:https://familyroomcoffee.com/wp-content/uploads/2024/01/Bingo-scaled.jpg
END:VEVENT
END:VCALENDAR