BEGIN:VCALENDAR
VERSION:2.0
PRODID:-//Family Room Coffee &amp; Bake Shop - ECPv6.5.0//NONSGML v1.0//EN
CALSCALE:GREGORIAN
METHOD:PUBLISH
X-ORIGINAL-URL:https://familyroomcoffee.com
X-WR-CALDESC:Events for Family Room Coffee &amp; Bake Shop
REFRESH-INTERVAL;VALUE=DURATION:PT1H
X-Robots-Tag:noindex
X-PUBLISHED-TTL:PT1H
BEGIN:VTIMEZONE
TZID:America/New_York
BEGIN:DAYLIGHT
TZOFFSETFROM:-0500
TZOFFSETTO:-0400
TZNAME:EDT
DTSTART:20240310T070000
END:DAYLIGHT
BEGIN:STANDARD
TZOFFSETFROM:-0400
TZOFFSETTO:-0500
TZNAME:EST
DTSTART:20241103T060000
END:STANDARD
END:VTIMEZONE
BEGIN:VEVENT
DTSTART;TZID=America/New_York:20240301T100000
DTEND;TZID=America/New_York:20240301T103000
DTSTAMP:20260421T173501
CREATED:20240131T125833Z
LAST-MODIFIED:20240131T125833Z
UID:10000016-1709287200-1709289000@familyroomcoffee.com
SUMMARY:Babbles and Bubbles
DESCRIPTION:Books\, songs\, play and…bubbles! \nDrop-in storytime that focuses on early speech and language skills \n$10 per child\, ages 6 months – 3 years
URL:https://familyroomcoffee.com/event/babbles-and-bubbles-2/
LOCATION:Family Room Coffee & Bake Shop\, 545 S. Otterbein Ave.\, Westerville\, OH\, 43081\, United States
ATTACH;FMTTYPE=image/jpeg:https://familyroomcoffee.com/wp-content/uploads/2024/01/BB-at-Family-Room.jpg
END:VEVENT
BEGIN:VEVENT
DTSTART;TZID=America/New_York:20240303T130000
DTEND;TZID=America/New_York:20240303T160000
DTSTAMP:20260421T173501
CREATED:20240219T124844Z
LAST-MODIFIED:20240219T124844Z
UID:10000017-1709470800-1709481600@familyroomcoffee.com
SUMMARY:Family Portrait Session
DESCRIPTION:Are you looking for a quick way to update your family portrait? Come by Family Room on Sunday\, March 3 from 1-4pm! Our friend and photographer Tom Welsh will be taking family portraits. We will have a spring backdrop set up and you will receive the edited digital file in time for Easter. No appt. needed\, just stop in during the 1-4pm window. \nThe cost is $15 for the first portrait\, and $5 for an additional shots. (For instance\, the whole family is $15 and just the kids is and extra $5).
URL:https://familyroomcoffee.com/event/family-portrait-session/
LOCATION:Family Room Coffee & Bake Shop\, 545 S. Otterbein Ave.\, Westerville\, OH\, 43081\, United States
ATTACH;FMTTYPE=image/jpeg:https://familyroomcoffee.com/wp-content/uploads/2024/02/Family-Portrait-Session.jpg
END:VEVENT
BEGIN:VEVENT
DTSTART;TZID=America/New_York:20240309T180000
DTEND;TZID=America/New_York:20240309T200000
DTSTAMP:20260421T173501
CREATED:20240228T175657Z
LAST-MODIFIED:20240228T175657Z
UID:10000019-1710007200-1710014400@familyroomcoffee.com
SUMMARY:Friendship Bracelet Party
DESCRIPTION:Bring your friends for a fun night of listening to our favorite pop star and making friendship bracelets! For $5 you get supplies to make 2 bracelets. Food and drinks are sold separately.
URL:https://familyroomcoffee.com/event/friendship-bracelet-party/
LOCATION:Family Room Coffee & Bake Shop\, 545 S. Otterbein Ave.\, Westerville\, OH\, 43081\, United States
ATTACH;FMTTYPE=image/jpeg:https://familyroomcoffee.com/wp-content/uploads/2024/02/for-2-bracelets.jpg
END:VEVENT
BEGIN:VEVENT
DTSTART;TZID=America/New_York:20240314T100000
DTEND;TZID=America/New_York:20240314T103000
DTSTAMP:20260421T173501
CREATED:20240304T161128Z
LAST-MODIFIED:20240304T161128Z
UID:10000020-1710410400-1710412200@familyroomcoffee.com
SUMMARY:Babbles & Bubbles
DESCRIPTION:Books\, songs\, play and…bubbles! \nDrop-in storytime that focuses on early speech and language skills \n$10 per child\, ages 6 months – 3 years
URL:https://familyroomcoffee.com/event/babbles-bubbles/
LOCATION:Family Room Coffee & Bake Shop\, 545 S. Otterbein Ave.\, Westerville\, OH\, 43081\, United States
CATEGORIES:Family Friendly
ATTACH;FMTTYPE=image/jpeg:https://familyroomcoffee.com/wp-content/uploads/2024/03/BB-at-Family-Room-2.jpg
END:VEVENT
BEGIN:VEVENT
DTSTART;TZID=America/New_York:20240316T153000
DTEND;TZID=America/New_York:20240316T170000
DTSTAMP:20260421T173501
CREATED:20240227T164851Z
LAST-MODIFIED:20240227T164851Z
UID:10000018-1710603000-1710608400@familyroomcoffee.com
SUMMARY:St. Patrick's Day Party
DESCRIPTION:Join us for a kid-focused St. Patrick’s Day party! We will have crafts\, games\, and activities geared toward kids. Every kid in attendance will also get a kid’s drink and a cookie. \nThe cost is $15 per kid.
URL:https://familyroomcoffee.com/event/st-patricks-day-party/
LOCATION:Family Room Coffee & Bake Shop\, 545 S. Otterbein Ave.\, Westerville\, OH\, 43081\, United States
ATTACH;FMTTYPE=image/jpeg:https://familyroomcoffee.com/wp-content/uploads/2024/02/St.-Patricks-Day-party.jpg
END:VEVENT
BEGIN:VEVENT
DTSTART;TZID=America/New_York:20240318T183000
DTEND;TZID=America/New_York:20240318T203000
DTSTAMP:20260421T173501
CREATED:20240304T162709Z
LAST-MODIFIED:20240304T182919Z
UID:10000021-1710786600-1710793800@familyroomcoffee.com
SUMMARY:Vision & Sips
DESCRIPTION:Vision & Sips is a fun and interactive way for women to come together and gain massive clarity on what they want to create and experience this year.  \nYou will leave feeling excited and inspired\, with a visual roadmap (aka a vision board that actually works) in hand so you know the exact steps you need to take to turn their vision into your new reality. \nThis experience is a combination of learning\, creativity\, and strategic planning….plus conversation\, laughs\, and inspiration. 
URL:https://familyroomcoffee.com/event/vision-sips/
LOCATION:Family Room Coffee & Bake Shop\, 545 S. Otterbein Ave.\, Westerville\, OH\, 43081\, United States
ATTACH;FMTTYPE=image/png:https://familyroomcoffee.com/wp-content/uploads/2024/03/March-2024-Vision-Sips-1.png
END:VEVENT
BEGIN:VEVENT
DTSTART;TZID=America/New_York:20240327T123000
DTEND;TZID=America/New_York:20240327T140000
DTSTAMP:20260421T173501
CREATED:20240317T124512Z
LAST-MODIFIED:20240317T124512Z
UID:10000022-1711542600-1711548000@familyroomcoffee.com
SUMMARY:Kid's Easter Party
DESCRIPTION:Join us for a fun kid focused Easter party. For $15 each kid will get a kids drink\, snack\, craft and games.
URL:https://familyroomcoffee.com/event/kids-easter-party/
LOCATION:Family Room Coffee & Bake Shop\, 545 S. Otterbein Ave.\, Westerville\, OH\, 43081\, United States
ATTACH;FMTTYPE=image/jpeg:https://familyroomcoffee.com/wp-content/uploads/2024/03/Kids-Easter-Party.jpg
END:VEVENT
BEGIN:VEVENT
DTSTART;TZID=America/New_York:20240328T180000
DTEND;TZID=America/New_York:20240328T193000
DTSTAMP:20260421T173501
CREATED:20240317T124614Z
LAST-MODIFIED:20240317T124614Z
UID:10000023-1711648800-1711654200@familyroomcoffee.com
SUMMARY:Kid's Easter Party
DESCRIPTION:Join us for a fun kid focused Easter party. For $15 each kid will get a kids drink\, snack\, craft and games.
URL:https://familyroomcoffee.com/event/kids-easter-party-2/
LOCATION:Family Room Coffee & Bake Shop\, 545 S. Otterbein Ave.\, Westerville\, OH\, 43081\, United States
ATTACH;FMTTYPE=image/jpeg:https://familyroomcoffee.com/wp-content/uploads/2024/03/Kids-Easter-Party.jpg
END:VEVENT
END:VCALENDAR