BEGIN:VCALENDAR
VERSION:2.0
PRODID:-//Family Room Coffee &amp; Bake Shop - ECPv6.5.0//NONSGML v1.0//EN
CALSCALE:GREGORIAN
METHOD:PUBLISH
X-ORIGINAL-URL:https://familyroomcoffee.com
X-WR-CALDESC:Events for Family Room Coffee &amp; Bake Shop
REFRESH-INTERVAL;VALUE=DURATION:PT1H
X-Robots-Tag:noindex
X-PUBLISHED-TTL:PT1H
BEGIN:VTIMEZONE
TZID:America/New_York
BEGIN:DAYLIGHT
TZOFFSETFROM:-0500
TZOFFSETTO:-0400
TZNAME:EDT
DTSTART:20240310T070000
END:DAYLIGHT
BEGIN:STANDARD
TZOFFSETFROM:-0400
TZOFFSETTO:-0500
TZNAME:EST
DTSTART:20241103T060000
END:STANDARD
END:VTIMEZONE
BEGIN:VEVENT
DTSTART;TZID=America/New_York:20240506T180000
DTEND;TZID=America/New_York:20240506T200000
DTSTAMP:20260421T143940
CREATED:20240405T191538Z
LAST-MODIFIED:20240405T191538Z
UID:10000031-1715018400-1715025600@familyroomcoffee.com
SUMMARY:Silent Book Club
DESCRIPTION:What exactly is a Silent Book Club?\nAt SBC\, there is no assigned reading. Simply grab your book/text of choice and join us for a brief social period then sit in companionable silence with your current read. After an hour of quiet reading\, you can stay and socialize more or head out.\n\n\nOur meetings take place the first Monday of each month from 6-8pm at Family Room Coffee and Bake Shop\, 545 S. Otterbein Ave\, Westerville\, OH\, 43081.\n\n\nSchedule will typically be as follows:\n\n\n6-630pm: Arrival/Greeting\n630-730pm: Quiet reading\n730-8pm: Social/Farewell\n\n\nFeel free to bring a friend with you to check us out.
URL:https://familyroomcoffee.com/event/silent-book-club-4/
LOCATION:Family Room Coffee & Bake Shop\, 545 S. Otterbein Ave.\, Westerville\, OH\, 43081\, United States
ATTACH;FMTTYPE=image/jpeg:https://familyroomcoffee.com/wp-content/uploads/2024/04/Silent-Book-Club-scaled.jpg
END:VEVENT
BEGIN:VEVENT
DTSTART;TZID=America/New_York:20240508T180000
DTEND;TZID=America/New_York:20240508T203000
DTSTAMP:20260421T143940
CREATED:20240409T114735Z
LAST-MODIFIED:20240409T114735Z
UID:10000035-1715191200-1715200200@familyroomcoffee.com
SUMMARY:Macrame Workshop
DESCRIPTION:Create your own beautiful spring wall hanging at this chill macrame workshop while sipping on one of Family Room’s delicious drinks.\nSpring Tree Wall Hanging Macrame Workshop at Family Room Coffee & Bake Shop Join us on Wed May 8 at 6PM for a fun and creative evening of crafting. Learn how to create a beautiful macrame wall hanging featuring a spring tree design. No experience is necessary – our instructor\, Amber\, will guide you through each step.\n\nAll materials will be provided\, just bring yourself and your creativity! Don’t miss out on this chance to relax\, sip on some delicious coffee\, and make something special for your home. Invite a friend to create with you\, but sign up soon – only 12 spots are available.\nPlease arrive a few minutes early to place your drink order. (Or order on the Family Room App!) We’ll work together\, step-by-step\, so it’s important that we start on time.\n\n$30 per person + eventbrite fee covers all supplies and instruction. Drinks are not included. No refunds. Exchanges for future events may be possible.
URL:https://familyroomcoffee.com/event/macrame-workshop/
LOCATION:Family Room Coffee & Bake Shop\, 545 S. Otterbein Ave.\, Westerville\, OH\, 43081\, United States
CATEGORIES:Craft Night
ATTACH;FMTTYPE=image/jpeg:https://familyroomcoffee.com/wp-content/uploads/2024/04/434839218_270361802827665_9118737202514636027_n.jpg
END:VEVENT
BEGIN:VEVENT
DTSTART;TZID=America/New_York:20240516T180000
DTEND;TZID=America/New_York:20240516T200000
DTSTAMP:20260421T143940
CREATED:20240405T191722Z
LAST-MODIFIED:20240405T191722Z
UID:10000032-1715882400-1715889600@familyroomcoffee.com
SUMMARY:Silent Book Club
DESCRIPTION:What exactly is a Silent Book Club?\nAt SBC\, there is no assigned reading. Simply grab your book/text of choice and join us for a brief social period then sit in companionable silence with your current read. After an hour of quiet reading\, you can stay and socialize more or head out.\n\n\nOur meetings take place the first Monday of each month from 6-8pm at Family Room Coffee and Bake Shop\, 545 S. Otterbein Ave\, Westerville\, OH\, 43081.\n\n\nSchedule will typically be as follows:\n\n\n6-630pm: Arrival/Greeting\n630-730pm: Quiet reading\n730-8pm: Social/Farewell\n\n\nFeel free to bring a friend with you to check us out.
URL:https://familyroomcoffee.com/event/silent-book-club-5/
LOCATION:Family Room Coffee & Bake Shop\, 545 S. Otterbein Ave.\, Westerville\, OH\, 43081\, United States
ATTACH;FMTTYPE=image/jpeg:https://familyroomcoffee.com/wp-content/uploads/2024/04/Silent-Book-Club-scaled.jpg
END:VEVENT
BEGIN:VEVENT
DTSTART;TZID=America/New_York:20240520T100000
DTEND;TZID=America/New_York:20240520T110000
DTSTAMP:20260421T143940
CREATED:20240520T152341Z
LAST-MODIFIED:20240520T152341Z
UID:10000049-1716199200-1716202800@familyroomcoffee.com
SUMMARY:Preschool Story Time
DESCRIPTION:Join us for our weekly preschool story hour. Meet other families\, enjoy delicious breakfast and drinks while your little ones listen to story hour with one of our awesome employees
URL:https://familyroomcoffee.com/event/preschool-story-time-12/
LOCATION:Family Room Coffee & Bake Shop\, 545 S. Otterbein Ave.\, Westerville\, OH\, 43081\, United States
CATEGORIES:Family Friendly
ATTACH;FMTTYPE=image/jpeg:https://familyroomcoffee.com/wp-content/uploads/2024/05/Cream-Green-Yellow-Flat-Graphic-Alphabet-Theme-Easel-Activity-Background.jpg
END:VEVENT
BEGIN:VEVENT
DTSTART;TZID=America/New_York:20240521T100000
DTEND;TZID=America/New_York:20240521T110000
DTSTAMP:20260421T143940
CREATED:20240515T112712Z
LAST-MODIFIED:20240515T112712Z
UID:10000039-1716285600-1716289200@familyroomcoffee.com
SUMMARY:Preschool Story Time
DESCRIPTION:Join us for our weekly preschool story time on Tuesdays at 10am.
URL:https://familyroomcoffee.com/event/preschool-story-time-6/
LOCATION:Family Room Coffee & Bake Shop\, 545 S. Otterbein Ave.\, Westerville\, OH\, 43081\, United States
ATTACH;FMTTYPE=image/jpeg:https://familyroomcoffee.com/wp-content/uploads/2024/01/preschool-story-time-scaled.jpg
END:VEVENT
BEGIN:VEVENT
DTSTART;TZID=America/New_York:20240523T180000
DTEND;TZID=America/New_York:20240523T200000
DTSTAMP:20260421T143940
CREATED:20240520T145907Z
LAST-MODIFIED:20240520T145907Z
UID:10000043-1716487200-1716494400@familyroomcoffee.com
SUMMARY:Silent Book Club
DESCRIPTION:What exactly is a Silent Book Club?\nAt SBC\, there is no assigned reading. Simply grab your book/text of choice and join us for a brief social period then sit in companionable silence with your current read. After an hour of quiet reading\, you can stay and socialize more or head out.\n\n\nOur meetings take place the first Monday of each month from 6-8pm at Family Room Coffee and Bake Shop\, 545 S. Otterbein Ave\, Westerville\, OH\, 43081.\n\n\nSchedule will typically be as follows:\n\n\n6-630pm: Arrival/Greeting\n630-730pm: Quiet reading\n730-8pm: Social/Farewell\n\n\nFeel free to bring a friend with you to check us out.
URL:https://familyroomcoffee.com/event/silent-book-club-8/
LOCATION:OH
ATTACH;FMTTYPE=image/jpeg:https://familyroomcoffee.com/wp-content/uploads/2024/04/Silent-Book-Club-scaled.jpg
END:VEVENT
END:VCALENDAR