BEGIN:VCALENDAR
VERSION:2.0
PRODID:-//Family Room Coffee &amp; Bake Shop - ECPv6.5.0//NONSGML v1.0//EN
CALSCALE:GREGORIAN
METHOD:PUBLISH
X-WR-CALNAME:Family Room Coffee &amp; Bake Shop
X-ORIGINAL-URL:https://familyroomcoffee.com
X-WR-CALDESC:Events for Family Room Coffee &amp; Bake Shop
REFRESH-INTERVAL;VALUE=DURATION:PT1H
X-Robots-Tag:noindex
X-PUBLISHED-TTL:PT1H
BEGIN:VTIMEZONE
TZID:America/New_York
BEGIN:DAYLIGHT
TZOFFSETFROM:-0500
TZOFFSETTO:-0400
TZNAME:EDT
DTSTART:20240310T070000
END:DAYLIGHT
BEGIN:STANDARD
TZOFFSETFROM:-0400
TZOFFSETTO:-0500
TZNAME:EST
DTSTART:20241103T060000
END:STANDARD
TZID:America/New_York
BEGIN:DAYLIGHT
TZOFFSETFROM:-0500
TZOFFSETTO:-0400
TZNAME:EDT
DTSTART:20240310T070000
END:DAYLIGHT
BEGIN:STANDARD
TZOFFSETFROM:-0400
TZOFFSETTO:-0500
TZNAME:EST
DTSTART:20241103T060000
END:STANDARD
END:VTIMEZONE
BEGIN:VEVENT
DTSTART;TZID=America/New_York:20240701T180000
DTEND;TZID=America/New_York:20240701T200000
DTSTAMP:20260421T113628
CREATED:20240405T192331Z
LAST-MODIFIED:20240911T160724Z
UID:10000570-1719856800-1719864000@familyroomcoffee.com
SUMMARY:Silent Book Club
DESCRIPTION:What exactly is a Silent Book Club?\nAt SBC\, there is no assigned reading. Simply grab your book/text of choice and join us for a brief social period then sit in companionable silence with your current read. After an hour of quiet reading\, you can stay and socialize more or head out.\n\n\nOur meetings take place the first Monday of each month from 6-8pm at Family Room Coffee and Bake Shop\, 545 S. Otterbein Ave\, Westerville\, OH\, 43081.\n\n\nSchedule will typically be as follows:\n\n\n6-630pm: Arrival/Greeting\n630-730pm: Quiet reading\n730-8pm: Social/Farewell\n\n\nFeel free to bring a friend with you to check us out.
URL:https://familyroomcoffee.com/event/silent-book-club-6/2024-07-01/
LOCATION:Family Room Coffee & Bake Shop\, 545 S. Otterbein Ave.\, Westerville\, OH\, 43081\, United States
ATTACH;FMTTYPE=image/jpeg:https://familyroomcoffee.com/wp-content/uploads/2024/04/Silent-Book-Club-1-scaled.jpg
END:VEVENT
BEGIN:VEVENT
DTSTART;TZID=America/New_York:20240710T180000
DTEND;TZID=America/New_York:20240710T200000
DTSTAMP:20260421T113628
CREATED:20240709T111710Z
LAST-MODIFIED:20240709T111728Z
UID:10000576-1720634400-1720641600@familyroomcoffee.com
SUMMARY:Perfume Party
DESCRIPTION:Create your own perfume party. We are partnering with Atataooed to offer a perfume party. Joins us fro 6-8pm
URL:https://familyroomcoffee.com/event/825/
LOCATION:Family Room Coffee & Bake Shop\, 545 S. Otterbein Ave.\, Westerville\, OH\, 43081\, United States
ATTACH;FMTTYPE=image/jpeg:https://familyroomcoffee.com/wp-content/uploads/2024/07/Add-a-subheading.jpg
END:VEVENT
BEGIN:VEVENT
DTSTART;TZID=America/New_York:20240713T180000
DTEND;TZID=America/New_York:20240713T200000
DTSTAMP:20260421T113628
CREATED:20240617T165614Z
LAST-MODIFIED:20240709T112029Z
UID:10000575-1720893600-1720900800@familyroomcoffee.com
SUMMARY:Paint Party
DESCRIPTION:Join us for a fun night of painting and fun! Bring your friends and paint this cute vase of flowers! Register below to attend!
URL:https://familyroomcoffee.com/event/paint-party/
LOCATION:Family Room Coffee & Bake Shop\, 545 S. Otterbein Ave.\, Westerville\, OH\, 43081\, United States
CATEGORIES:Craft Night
ATTACH;FMTTYPE=image/jpeg:https://familyroomcoffee.com/wp-content/uploads/2024/06/Paint-party-2.jpg
END:VEVENT
BEGIN:VEVENT
DTSTART;TZID=America/New_York:20240716T140000
DTEND;TZID=America/New_York:20240716T143000
DTSTAMP:20260421T113628
CREATED:20240709T114023Z
LAST-MODIFIED:20240709T114142Z
UID:10000599-1721138400-1721140200@familyroomcoffee.com
SUMMARY:Library Story Time at Family Room
DESCRIPTION:The Westerville public library is coming for story time this summer. Join us on one of these dates!
URL:https://familyroomcoffee.com/event/834/
LOCATION:Family Room Coffee & Bake Shop\, 545 S. Otterbein Ave.\, Westerville\, OH\, 43081\, United States
CATEGORIES:Family Friendly
ATTACH;FMTTYPE=image/jpeg:https://familyroomcoffee.com/wp-content/uploads/2024/07/Westervile-Library-Story-time-2.jpg
END:VEVENT
BEGIN:VEVENT
DTSTART;TZID=America/New_York:20240716T183000
DTEND;TZID=America/New_York:20240716T200000
DTSTAMP:20260421T113628
CREATED:20240709T115218Z
LAST-MODIFIED:20240709T115218Z
UID:10000601-1721154600-1721160000@familyroomcoffee.com
SUMMARY:Women in Ukraine: Event by Zone Club of Columbus
DESCRIPTION:Zonta Club of Columbus is pleased to welcome Katrin Bizilya from the Zonta Club of Uzhhored in Ukraine!  Katrin is a teacher of English\, and she is excited to visit Ohio.  Join us as she shares the work in Ukraine to support women and girls in these difficult times.
URL:https://familyroomcoffee.com/event/women-in-ukraine-event-by-zone-club-of-columbus/
LOCATION:Family Room Coffee & Bake Shop\, 545 S. Otterbein Ave.\, Westerville\, OH\, 43081\, United States
ATTACH;FMTTYPE=image/jpeg:https://familyroomcoffee.com/wp-content/uploads/2024/07/Zonta-Club-Logo_Horizontal_Color_Reverse_COLUMBUS-OH-1-8X6.jpg
END:VEVENT
BEGIN:VEVENT
DTSTART;TZID=America/New_York:20240718T180000
DTEND;TZID=America/New_York:20240718T200000
DTSTAMP:20260421T113628
CREATED:20240405T192331Z
LAST-MODIFIED:20240911T160724Z
UID:10000571-1721325600-1721332800@familyroomcoffee.com
SUMMARY:Silent Book Club
DESCRIPTION:What exactly is a Silent Book Club?\nAt SBC\, there is no assigned reading. Simply grab your book/text of choice and join us for a brief social period then sit in companionable silence with your current read. After an hour of quiet reading\, you can stay and socialize more or head out.\n\n\nOur meetings take place the first Monday of each month from 6-8pm at Family Room Coffee and Bake Shop\, 545 S. Otterbein Ave\, Westerville\, OH\, 43081.\n\n\nSchedule will typically be as follows:\n\n\n6-630pm: Arrival/Greeting\n630-730pm: Quiet reading\n730-8pm: Social/Farewell\n\n\nFeel free to bring a friend with you to check us out.
URL:https://familyroomcoffee.com/event/silent-book-club-6/2024-07-18/
LOCATION:Family Room Coffee & Bake Shop\, 545 S. Otterbein Ave.\, Westerville\, OH\, 43081\, United States
ATTACH;FMTTYPE=image/jpeg:https://familyroomcoffee.com/wp-content/uploads/2024/04/Silent-Book-Club-1-scaled.jpg
END:VEVENT
BEGIN:VEVENT
DTSTART;TZID=America/New_York:20240719T180000
DTEND;TZID=America/New_York:20240719T200000
DTSTAMP:20260421T113628
CREATED:20240402T140331Z
LAST-MODIFIED:20240709T112434Z
UID:10000577-1721412000-1721419200@familyroomcoffee.com
SUMMARY:Bingo!
DESCRIPTION:Join us for Bingo on the 1st and 3rd Fridays of the month. All ages can participate and there is no cost to play. Win fun treats and prizes.
URL:https://familyroomcoffee.com/event/bingo-7/2024-07-19/
LOCATION:Family Room Coffee & Bake Shop\, 545 S. Otterbein Ave.\, Westerville\, OH\, 43081\, United States
CATEGORIES:Family Friendly
ATTACH;FMTTYPE=image/jpeg:https://familyroomcoffee.com/wp-content/uploads/2024/01/Bingo-scaled.jpg
END:VEVENT
BEGIN:VEVENT
DTSTART;TZID=America/New_York:20240726T180000
DTEND;TZID=America/New_York:20240726T200000
DTSTAMP:20260421T113628
CREATED:20240402T140331Z
LAST-MODIFIED:20240709T112434Z
UID:10000578-1722016800-1722024000@familyroomcoffee.com
SUMMARY:Bingo!
DESCRIPTION:Join us for Bingo on the 1st and 3rd Fridays of the month. All ages can participate and there is no cost to play. Win fun treats and prizes.
URL:https://familyroomcoffee.com/event/bingo-7/2024-07-26/
LOCATION:Family Room Coffee & Bake Shop\, 545 S. Otterbein Ave.\, Westerville\, OH\, 43081\, United States
CATEGORIES:Family Friendly
ATTACH;FMTTYPE=image/jpeg:https://familyroomcoffee.com/wp-content/uploads/2024/01/Bingo-scaled.jpg
END:VEVENT
END:VCALENDAR