BEGIN:VCALENDAR
VERSION:2.0
PRODID:-//Family Room Coffee &amp; Bake Shop - ECPv6.5.0//NONSGML v1.0//EN
CALSCALE:GREGORIAN
METHOD:PUBLISH
X-ORIGINAL-URL:https://familyroomcoffee.com
X-WR-CALDESC:Events for Family Room Coffee &amp; Bake Shop
REFRESH-INTERVAL;VALUE=DURATION:PT1H
X-Robots-Tag:noindex
X-PUBLISHED-TTL:PT1H
BEGIN:VTIMEZONE
TZID:America/New_York
BEGIN:DAYLIGHT
TZOFFSETFROM:-0500
TZOFFSETTO:-0400
TZNAME:EDT
DTSTART:20240310T070000
END:DAYLIGHT
BEGIN:STANDARD
TZOFFSETFROM:-0400
TZOFFSETTO:-0500
TZNAME:EST
DTSTART:20241103T060000
END:STANDARD
TZID:America/New_York
BEGIN:DAYLIGHT
TZOFFSETFROM:-0500
TZOFFSETTO:-0400
TZNAME:EDT
DTSTART:20240310T070000
END:DAYLIGHT
BEGIN:STANDARD
TZOFFSETFROM:-0400
TZOFFSETTO:-0500
TZNAME:EST
DTSTART:20241103T060000
END:STANDARD
END:VTIMEZONE
BEGIN:VEVENT
DTSTART;TZID=America/New_York:20240902T180000
DTEND;TZID=America/New_York:20240902T200000
DTSTAMP:20260421T084827
CREATED:20240405T192331Z
LAST-MODIFIED:20240911T160724Z
UID:10000573-1725300000-1725307200@familyroomcoffee.com
SUMMARY:Silent Book Club
DESCRIPTION:What exactly is a Silent Book Club?\nAt SBC\, there is no assigned reading. Simply grab your book/text of choice and join us for a brief social period then sit in companionable silence with your current read. After an hour of quiet reading\, you can stay and socialize more or head out.\n\n\nOur meetings take place the first Monday of each month from 6-8pm at Family Room Coffee and Bake Shop\, 545 S. Otterbein Ave\, Westerville\, OH\, 43081.\n\n\nSchedule will typically be as follows:\n\n\n6-630pm: Arrival/Greeting\n630-730pm: Quiet reading\n730-8pm: Social/Farewell\n\n\nFeel free to bring a friend with you to check us out.
URL:https://familyroomcoffee.com/event/silent-book-club-6/2024-09-02/
LOCATION:Family Room Coffee & Bake Shop\, 545 S. Otterbein Ave.\, Westerville\, OH\, 43081\, United States
ATTACH;FMTTYPE=image/jpeg:https://familyroomcoffee.com/wp-content/uploads/2024/04/Silent-Book-Club-1-scaled.jpg
END:VEVENT
BEGIN:VEVENT
DTSTART;TZID=America/New_York:20240906T180000
DTEND;TZID=America/New_York:20240906T200000
DTSTAMP:20260421T084827
CREATED:20240709T112842Z
LAST-MODIFIED:20240709T113322Z
UID:10000587-1725645600-1725652800@familyroomcoffee.com
SUMMARY:Bingo!
DESCRIPTION:Join us for Bingo on the 1st and 3rd Fridays of the month. All ages can participate and there is no cost to play. Win fun treats and prizes.
URL:https://familyroomcoffee.com/event/bingo/2024-09-06/
LOCATION:Family Room Coffee & Bake Shop\, 545 S. Otterbein Ave.\, Westerville\, OH\, 43081\, United States
CATEGORIES:Family Friendly
ATTACH;FMTTYPE=image/jpeg:https://familyroomcoffee.com/wp-content/uploads/2024/01/Bingo-scaled.jpg
END:VEVENT
BEGIN:VEVENT
DTSTART;TZID=America/New_York:20240920T180000
DTEND;TZID=America/New_York:20240920T200000
DTSTAMP:20260421T084827
CREATED:20240709T112842Z
LAST-MODIFIED:20240709T113322Z
UID:10000588-1726855200-1726862400@familyroomcoffee.com
SUMMARY:Bingo!
DESCRIPTION:Join us for Bingo on the 1st and 3rd Fridays of the month. All ages can participate and there is no cost to play. Win fun treats and prizes.
URL:https://familyroomcoffee.com/event/bingo/2024-09-20/
LOCATION:Family Room Coffee & Bake Shop\, 545 S. Otterbein Ave.\, Westerville\, OH\, 43081\, United States
CATEGORIES:Family Friendly
ATTACH;FMTTYPE=image/jpeg:https://familyroomcoffee.com/wp-content/uploads/2024/01/Bingo-scaled.jpg
END:VEVENT
BEGIN:VEVENT
DTSTART;TZID=America/New_York:20240929T180000
DTEND;TZID=America/New_York:20240929T203000
DTSTAMP:20260421T084827
CREATED:20240916T135100Z
LAST-MODIFIED:20240916T135100Z
UID:10000608-1727632800-1727641800@familyroomcoffee.com
SUMMARY:Paint Party - Golden Harvest
DESCRIPTION:Come paint a beautiful golden adorned pumpkin at the Family Room Bakeshop with Party and Paint. This is a pre-sketched canvas\, but blank ones are always available. This class is perfect for beginners and advanced.
URL:https://familyroomcoffee.com/event/paint-party-golden-harvest/
LOCATION:Family Room Coffee & Bake Shop\, 545 S. Otterbein Ave.\, Westerville\, OH\, 43081\, United States
CATEGORIES:Craft Night
ATTACH;FMTTYPE=image/jpeg:https://familyroomcoffee.com/wp-content/uploads/2024/09/September-Paint-Party.jpg
END:VEVENT
END:VCALENDAR