BEGIN:VCALENDAR
VERSION:2.0
PRODID:-//Family Room Coffee &amp; Bake Shop - ECPv6.5.0//NONSGML v1.0//EN
CALSCALE:GREGORIAN
METHOD:PUBLISH
X-WR-CALNAME:Family Room Coffee &amp; Bake Shop
X-ORIGINAL-URL:https://familyroomcoffee.com
X-WR-CALDESC:Events for Family Room Coffee &amp; Bake Shop
REFRESH-INTERVAL;VALUE=DURATION:PT1H
X-Robots-Tag:noindex
X-PUBLISHED-TTL:PT1H
BEGIN:VTIMEZONE
TZID:America/New_York
BEGIN:DAYLIGHT
TZOFFSETFROM:-0500
TZOFFSETTO:-0400
TZNAME:EDT
DTSTART:20240310T070000
END:DAYLIGHT
BEGIN:STANDARD
TZOFFSETFROM:-0400
TZOFFSETTO:-0500
TZNAME:EST
DTSTART:20241103T060000
END:STANDARD
TZID:America/New_York
BEGIN:DAYLIGHT
TZOFFSETFROM:-0500
TZOFFSETTO:-0400
TZNAME:EDT
DTSTART:20240310T070000
END:DAYLIGHT
BEGIN:STANDARD
TZOFFSETFROM:-0400
TZOFFSETTO:-0500
TZNAME:EST
DTSTART:20241103T060000
END:STANDARD
END:VTIMEZONE
BEGIN:VEVENT
DTSTART;TZID=America/New_York:20241101T180000
DTEND;TZID=America/New_York:20241101T200000
DTSTAMP:20260421T055707
CREATED:20240709T112842Z
LAST-MODIFIED:20240709T113322Z
UID:10000591-1730484000-1730491200@familyroomcoffee.com
SUMMARY:Bingo!
DESCRIPTION:Join us for Bingo on the 1st and 3rd Fridays of the month. All ages can participate and there is no cost to play. Win fun treats and prizes.
URL:https://familyroomcoffee.com/event/bingo/2024-11-01/
LOCATION:Family Room Coffee & Bake Shop\, 545 S. Otterbein Ave.\, Westerville\, OH\, 43081\, United States
CATEGORIES:Family Friendly
ATTACH;FMTTYPE=image/jpeg:https://familyroomcoffee.com/wp-content/uploads/2024/01/Bingo-scaled.jpg
END:VEVENT
BEGIN:VEVENT
DTSTART;TZID=America/New_York:20241114T180000
DTEND;TZID=America/New_York:20241114T200000
DTSTAMP:20260421T055707
CREATED:20240911T134137Z
LAST-MODIFIED:20240911T134137Z
UID:10000605-1731607200-1731614400@familyroomcoffee.com
SUMMARY:Winter Garland worksop
DESCRIPTION:Create an eco-friendly winter garland to decorate your home all season long.\nWinter Garland Workshop at Family Room Coffee & Bake Shop Join us on Thursday November 14 at 6PM for some festive crafting. Learn how to create a 5ft garland from recycled felt. No experience is necessary – our instructor\, Amber\, will guide you through each step.All materials will be provided\, just bring yourself and your creativity! Don’t miss out on this chance to relax\, sip on some delicious coffee\, and make something special for your home. Invite a friend to create with you\, but sign up soon – only 12 spots are available.Please arrive a few minutes early to place your drink order. (Or order on the Family Room App!) We’ll work together\, step-by-step\, so it’s important that we start on time.$25 per person + eventbrite fee covers all supplies and instruction. Drinks are not included. No refunds. Exchanges for future events may be possible.
URL:https://familyroomcoffee.com/event/winter-garland-worksop/
LOCATION:OH
CATEGORIES:Craft Night
ATTACH;FMTTYPE=image/jpeg:https://familyroomcoffee.com/wp-content/uploads/2024/09/Winter-Garland.jpg
END:VEVENT
BEGIN:VEVENT
DTSTART;TZID=America/New_York:20241122T180000
DTEND;TZID=America/New_York:20241122T200000
DTSTAMP:20260421T055707
CREATED:20241029T112954Z
LAST-MODIFIED:20241029T112954Z
UID:10000610-1732298400-1732305600@familyroomcoffee.com
SUMMARY:Thanksgiving Cookie Decorating Class
DESCRIPTION:This class is for the beginner cookier or for the person who is just curious about what cookie decorating is all about! If you have limited experience with sugar cookies\, found yourself frustrated with royal icing\, or if you’re trying to have fun with family or friends\, this is the class for you! We’ll be decorating six Thanksgiving-themed cookies you’ll be a-maize-ing at! \nWe provide everything you will need from cookies\, icing\, sprinkles\, and a box to take your awesome creations home in – we just need YOU! Each to-be-baker gets 6 cookies\, 4 icing colors\, sprinkles\, and all the tools necessary to knock this cookie class out of the park! Everything is prepped right before class – so no baking or icing mixing required. Just decorate!
URL:https://familyroomcoffee.com/event/thanksgiving-cookie-decorating-class/
LOCATION:Family Room Coffee & Bake Shop\, 545 S. Otterbein Ave.\, Westerville\, OH\, 43081\, United States
ATTACH;FMTTYPE=image/jpeg:https://familyroomcoffee.com/wp-content/uploads/2024/10/Thanksgiving-Cookie-Class-scaled.jpg
END:VEVENT
BEGIN:VEVENT
DTSTART;TZID=America/New_York:20241123T180000
DTEND;TZID=America/New_York:20241123T203000
DTSTAMP:20260421T055707
CREATED:20241029T113255Z
LAST-MODIFIED:20241029T113255Z
UID:10000611-1732384800-1732393800@familyroomcoffee.com
SUMMARY:Snow Fox Paint Party
DESCRIPTION:This is a step-by-step paint party. We will be painting this adorable snow fox. Canvases are pre-traced but blank ones are available. This is a fun art class\, where you can unleash your inner artist.
URL:https://familyroomcoffee.com/event/snow-fox-paint-party/
LOCATION:Family Room Coffee & Bake Shop\, 545 S. Otterbein Ave.\, Westerville\, OH\, 43081\, United States
CATEGORIES:Craft Night
ATTACH;FMTTYPE=image/jpeg:https://familyroomcoffee.com/wp-content/uploads/2024/10/Snow-fox-paint-party.jpg
END:VEVENT
END:VCALENDAR